BEGIN:VCALENDAR
VERSION:2.0
PRODID:-//SKN Frauen - ECPv5.16.4//NONSGML v1.0//EN
CALSCALE:GREGORIAN
METHOD:PUBLISH
X-WR-CALNAME:SKN Frauen
X-ORIGINAL-URL:https://www.skn-frauen.at
X-WR-CALDESC:Veranstaltungen für SKN Frauen
BEGIN:VTIMEZONE
TZID:Europe/Vienna
BEGIN:DAYLIGHT
TZOFFSETFROM:+0100
TZOFFSETTO:+0200
TZNAME:CEST
DTSTART:20230326T010000
END:DAYLIGHT
BEGIN:STANDARD
TZOFFSETFROM:+0200
TZOFFSETTO:+0100
TZNAME:CET
DTSTART:20231029T010000
END:STANDARD
END:VTIMEZONE
BEGIN:VEVENT
DTSTART;TZID=Europe/Vienna:20230304T173000
DTEND;TZID=Europe/Vienna:20230304T193000
DTSTAMP:20260421T193855
CREATED:20221229T055824Z
LAST-MODIFIED:20230303T232954Z
UID:18052-1677951000-1677958200@www.skn-frauen.at
SUMMARY:Vorbereitungsspiel: spusu SKN St. Pölten Frauen - Ferencvaros Budapest
DESCRIPTION:Spielbeginn: 13.00 Uhr
URL:https://www.skn-frauen.at/event/vorbereitungsspiel-spusu-skn-st-poelten-frauen-ferencvaros-budapest/
LOCATION:NV Arena – Aussenplatz\, Bimbo-Binder-Promenade 9\, St. Pölten\, Niederösterreich\, 3100\, Österreich
CATEGORIES:Vorbereitungsspiel
END:VEVENT
END:VCALENDAR