BEGIN:VCALENDAR
VERSION:2.0
PRODID:-//SKN Frauen - ECPv5.16.4//NONSGML v1.0//EN
CALSCALE:GREGORIAN
METHOD:PUBLISH
X-WR-CALNAME:SKN Frauen
X-ORIGINAL-URL:https://www.skn-frauen.at
X-WR-CALDESC:Veranstaltungen für SKN Frauen
BEGIN:VTIMEZONE
TZID:Europe/Vienna
BEGIN:DAYLIGHT
TZOFFSETFROM:+0100
TZOFFSETTO:+0200
TZNAME:CEST
DTSTART:20230326T010000
END:DAYLIGHT
BEGIN:STANDARD
TZOFFSETFROM:+0200
TZOFFSETTO:+0100
TZNAME:CET
DTSTART:20231029T010000
END:STANDARD
END:VTIMEZONE
BEGIN:VEVENT
DTSTART;TZID=Europe/Vienna:20230203T174500
DTEND;TZID=Europe/Vienna:20230203T194500
DTSTAMP:20260421T180718
CREATED:20221229T054842Z
LAST-MODIFIED:20221229T054843Z
UID:18048-1675446300-1675453500@www.skn-frauen.at
SUMMARY:Vorbereitungsspiel: spusu SKN St. Pölten Frauen - FC Slovacko
DESCRIPTION:Spielbeginn: 17.45 Uhr
URL:https://www.skn-frauen.at/event/vorbereitungsspiel-spusu-skn-st-poelten-frauen-fc-slovacko/
LOCATION:SPORTZENTRUM Niederösterreich\, Dr. Adolf Schärf-Straße 25\, St. Pölten\, Niederösterreich\, 3100\, Österreich
CATEGORIES:Vorbereitungsspiel
END:VEVENT
END:VCALENDAR