BEGIN:VCALENDAR
VERSION:2.0
PRODID:-//SKN Frauen - ECPv5.16.4//NONSGML v1.0//EN
CALSCALE:GREGORIAN
METHOD:PUBLISH
X-WR-CALNAME:SKN Frauen
X-ORIGINAL-URL:https://www.skn-frauen.at
X-WR-CALDESC:Veranstaltungen für SKN Frauen
BEGIN:VTIMEZONE
TZID:Europe/Vienna
BEGIN:DAYLIGHT
TZOFFSETFROM:+0100
TZOFFSETTO:+0200
TZNAME:CEST
DTSTART:20230326T010000
END:DAYLIGHT
BEGIN:STANDARD
TZOFFSETFROM:+0200
TZOFFSETTO:+0100
TZNAME:CET
DTSTART:20231029T010000
END:STANDARD
END:VTIMEZONE
BEGIN:VEVENT
DTSTART;TZID=Europe/Vienna:20230128T140000
DTEND;TZID=Europe/Vienna:20230128T160000
DTSTAMP:20260421T201853
CREATED:20221229T054316Z
LAST-MODIFIED:20221229T054316Z
UID:18045-1674914400-1674921600@www.skn-frauen.at
SUMMARY:Vorbereitungsspiel: Sparta Prag – spusu SKN St. Pölten Frauen
DESCRIPTION:Spielbeginn: 14:00 Uhr
URL:https://www.skn-frauen.at/event/vorbereitungsspiel-sparta-prag-spusu-skn-st-poelten-frauen-3/
LOCATION:Stadion TJ Sokol Pohorelice\, Pohořelice\, 691 23\, Tschechische Republik
CATEGORIES:Vorbereitungsspiel
END:VEVENT
END:VCALENDAR