BEGIN:VCALENDAR
VERSION:2.0
PRODID:-//SKN Frauen - ECPv5.16.4//NONSGML v1.0//EN
CALSCALE:GREGORIAN
METHOD:PUBLISH
X-WR-CALNAME:SKN Frauen
X-ORIGINAL-URL:https://www.skn-frauen.at
X-WR-CALDESC:Veranstaltungen für SKN Frauen
BEGIN:VTIMEZONE
TZID:Europe/Vienna
BEGIN:DAYLIGHT
TZOFFSETFROM:+0100
TZOFFSETTO:+0200
TZNAME:CEST
DTSTART:20230326T010000
END:DAYLIGHT
BEGIN:STANDARD
TZOFFSETFROM:+0200
TZOFFSETTO:+0100
TZNAME:CET
DTSTART:20231029T010000
END:STANDARD
END:VTIMEZONE
BEGIN:VEVENT
DTSTART;TZID=Europe/Vienna:20230820T170000
DTEND;TZID=Europe/Vienna:20230820T190000
DTSTAMP:20260422T204213
CREATED:20230722T110824Z
LAST-MODIFIED:20230722T110824Z
UID:18619-1692550800-1692558000@www.skn-frauen.at
SUMMARY:Vorbereitungsspiel: Mariahilf 1b - spusu SKN St. Pölten U16 Frauen
DESCRIPTION:Spielbeginn: 17.00 Uhr
URL:https://www.skn-frauen.at/event/vorbereitungsspiel-mariahilf-1b-spusu-skn-st-poelten-u16-frauen/
LOCATION:SGP Simmering\, Leberstr. 84\, Wien\, 1110\, Österreich
CATEGORIES:Vorbereitungsspiel
END:VEVENT
END:VCALENDAR