BEGIN:VCALENDAR
VERSION:2.0
PRODID:-//SKN Frauen - ECPv5.16.4//NONSGML v1.0//EN
CALSCALE:GREGORIAN
METHOD:PUBLISH
X-WR-CALNAME:SKN Frauen
X-ORIGINAL-URL:https://www.skn-frauen.at
X-WR-CALDESC:Veranstaltungen für SKN Frauen
BEGIN:VTIMEZONE
TZID:Europe/Vienna
BEGIN:DAYLIGHT
TZOFFSETFROM:+0100
TZOFFSETTO:+0200
TZNAME:CEST
DTSTART:20240331T010000
END:DAYLIGHT
BEGIN:STANDARD
TZOFFSETFROM:+0200
TZOFFSETTO:+0100
TZNAME:CET
DTSTART:20241027T010000
END:STANDARD
END:VTIMEZONE
BEGIN:VEVENT
DTSTART;TZID=Europe/Vienna:20240125T210000
DTEND;TZID=Europe/Vienna:20240125T230000
DTSTAMP:20260422T014446
CREATED:20231118T043208Z
LAST-MODIFIED:20231118T043208Z
UID:19088-1706216400-1706223600@www.skn-frauen.at
SUMMARY:UEFA Women´s Champions League 2023/24 – 5. Runde Gruppenphase
DESCRIPTION:SKN St. Pölten Frauen – Olympique Lyon \nSpielbeginn: 21:00 Uhr
URL:https://www.skn-frauen.at/event/uefa-womens-champions-league-2023-24-5-runde-gruppenphase/
LOCATION:NV Arena\, Bimbo-Binder-Promenade 9\, St. Pölten\, Niederösterreich\, 3100\, Österreich
CATEGORIES:UWCL-Spiel
END:VEVENT
END:VCALENDAR