BEGIN:VCALENDAR
VERSION:2.0
PRODID:-//SKN Frauen - ECPv5.16.4//NONSGML v1.0//EN
CALSCALE:GREGORIAN
METHOD:PUBLISH
X-WR-CALNAME:SKN Frauen
X-ORIGINAL-URL:https://www.skn-frauen.at
X-WR-CALDESC:Veranstaltungen für SKN Frauen
BEGIN:VTIMEZONE
TZID:Europe/Vienna
BEGIN:DAYLIGHT
TZOFFSETFROM:+0100
TZOFFSETTO:+0200
TZNAME:CEST
DTSTART:20230326T010000
END:DAYLIGHT
BEGIN:STANDARD
TZOFFSETFROM:+0200
TZOFFSETTO:+0100
TZNAME:CET
DTSTART:20231029T010000
END:STANDARD
END:VTIMEZONE
BEGIN:VEVENT
DTSTART;TZID=Europe/Vienna:20230820T170000
DTEND;TZID=Europe/Vienna:20230820T200000
DTSTAMP:20260422T175756
CREATED:20230806T112125Z
LAST-MODIFIED:20230806T112125Z
UID:18665-1692550800-1692561600@www.skn-frauen.at
SUMMARY:Sportland.NÖ Frauen Cup 2023/24 – 1. Runde: FSG Stetteldorf / Großweikersdorf - spusu SKN St. Pölten Frauen
DESCRIPTION:Spielbeginn: 17.00 Uhr
URL:https://www.skn-frauen.at/event/sportland-noe-frauen-cup-2023-24-1-runde-fsg-stetteldorf-grossweikersdorf-spusu-skn-st-poelten-frauen/
LOCATION:Wagram Park\, Sportgasse 3\, Stetteldorf am Wagram\, 3463
CATEGORIES:Pokalspiel
END:VEVENT
END:VCALENDAR