BEGIN:VCALENDAR
VERSION:2.0
PRODID:-//SKN Frauen - ECPv5.16.4//NONSGML v1.0//EN
CALSCALE:GREGORIAN
METHOD:PUBLISH
X-WR-CALNAME:SKN Frauen
X-ORIGINAL-URL:https://www.skn-frauen.at
X-WR-CALDESC:Veranstaltungen für SKN Frauen
BEGIN:VTIMEZONE
TZID:Europe/Vienna
BEGIN:DAYLIGHT
TZOFFSETFROM:+0100
TZOFFSETTO:+0200
TZNAME:CEST
DTSTART:20230326T010000
END:DAYLIGHT
BEGIN:STANDARD
TZOFFSETFROM:+0200
TZOFFSETTO:+0100
TZNAME:CET
DTSTART:20231029T010000
END:STANDARD
END:VTIMEZONE
BEGIN:VEVENT
DTSTART;TZID=Europe/Vienna:20230501T150000
DTEND;TZID=Europe/Vienna:20230501T180000
DTSTAMP:20260421T163155
CREATED:20230416T223746Z
LAST-MODIFIED:20230416T223746Z
UID:18386-1682953200-1682964000@www.skn-frauen.at
SUMMARY:Sportland.NÖ Frauen Cup 2022/23 – FINALE: spusu SKN St. Pölten Frauen - SPG Altach/Vorderland
DESCRIPTION:Spielbeginn: 15.00 Uhr
URL:https://www.skn-frauen.at/event/sportland-noe-frauen-cup-2022-23-finale-spusu-skn-st-poelten-frauen-spg-altach-vorderland/
LOCATION:ERGO Arena\, Ferdinand-Graf-von- Zeppelin-Straße 10\, Wr. Neustadt\, Niederösterreich\, 2700
CATEGORIES:Pokalspiel
END:VEVENT
END:VCALENDAR