BEGIN:VCALENDAR
VERSION:2.0
PRODID:-//SKN Frauen - ECPv5.16.4//NONSGML v1.0//EN
CALSCALE:GREGORIAN
METHOD:PUBLISH
X-WR-CALNAME:SKN Frauen
X-ORIGINAL-URL:https://www.skn-frauen.at
X-WR-CALDESC:Veranstaltungen für SKN Frauen
BEGIN:VTIMEZONE
TZID:Europe/Vienna
BEGIN:DAYLIGHT
TZOFFSETFROM:+0100
TZOFFSETTO:+0200
TZNAME:CEST
DTSTART:20230326T010000
END:DAYLIGHT
BEGIN:STANDARD
TZOFFSETFROM:+0200
TZOFFSETTO:+0100
TZNAME:CET
DTSTART:20231029T010000
END:STANDARD
END:VTIMEZONE
BEGIN:VEVENT
DTSTART;TZID=Europe/Vienna:20230521T110000
DTEND;TZID=Europe/Vienna:20230521T151500
DTSTAMP:20260421T193920
CREATED:20230214T191605Z
LAST-MODIFIED:20230221T191526Z
UID:18197-1684666800-1684682100@www.skn-frauen.at
SUMMARY:Planet Pure Frauen Bundesliga 2022/23: spusu SKN St. Pölten Frauen – SPG Altach/Vorderland
DESCRIPTION:Spielbeginn Bundesliga: 11.00 Uhr\nSpielbeginn Future League: 13.15 Uhr
URL:https://www.skn-frauen.at/event/planet-pure-frauen-bundesliga-2022-23-spusu-skn-st-poelten-frauen-spg-altach-vorderland/
LOCATION:Liese Prokop Sportanlage\, Dreikreuzstrasse 81\, Rohrbach an der Gölsen\, 3163\, Österreich
CATEGORIES:Meisterschaftsspiel
END:VEVENT
END:VCALENDAR