BEGIN:VCALENDAR
VERSION:2.0
PRODID:-//SKN Frauen - ECPv5.16.4//NONSGML v1.0//EN
CALSCALE:GREGORIAN
METHOD:PUBLISH
X-WR-CALNAME:SKN Frauen
X-ORIGINAL-URL:https://www.skn-frauen.at
X-WR-CALDESC:Veranstaltungen für SKN Frauen
BEGIN:VTIMEZONE
TZID:Europe/Vienna
BEGIN:DAYLIGHT
TZOFFSETFROM:+0100
TZOFFSETTO:+0200
TZNAME:CEST
DTSTART:20230326T010000
END:DAYLIGHT
BEGIN:STANDARD
TZOFFSETFROM:+0200
TZOFFSETTO:+0100
TZNAME:CET
DTSTART:20231029T010000
END:STANDARD
END:VTIMEZONE
BEGIN:VEVENT
DTSTART;TZID=Europe/Vienna:20230423T120000
DTEND;TZID=Europe/Vienna:20230423T161500
DTSTAMP:20260421T140323
CREATED:20230214T190457Z
LAST-MODIFIED:20230214T190457Z
UID:18188-1682251200-1682266500@www.skn-frauen.at
SUMMARY:Planet Pure Frauen Bundesliga 2022/23: FC Bergheim – spusu SKN St. Pölten Frauen
DESCRIPTION:Spielbeginn Bundesliga: 12.00 Uhr\nSpielbeginn Future League: 14.15 Uhr
URL:https://www.skn-frauen.at/event/planet-pure-frauen-bundesliga-2022-23-fc-bergheim-spusu-skn-st-poelten-frauen/
LOCATION:Sportplatz Bergheim\, Iselstraße 12\, Bergheim\, 5101\, Österreich
CATEGORIES:Meisterschaftsspiel
END:VEVENT
END:VCALENDAR