BEGIN:VCALENDAR
VERSION:2.0
PRODID:-//SKN Frauen - ECPv5.16.4//NONSGML v1.0//EN
CALSCALE:GREGORIAN
METHOD:PUBLISH
X-WR-CALNAME:SKN Frauen
X-ORIGINAL-URL:https://www.skn-frauen.at
X-WR-CALDESC:Veranstaltungen für SKN Frauen
BEGIN:VTIMEZONE
TZID:Europe/Vienna
BEGIN:DAYLIGHT
TZOFFSETFROM:+0100
TZOFFSETTO:+0200
TZNAME:CEST
DTSTART:20230326T010000
END:DAYLIGHT
BEGIN:STANDARD
TZOFFSETFROM:+0200
TZOFFSETTO:+0100
TZNAME:CET
DTSTART:20231029T010000
END:STANDARD
END:VTIMEZONE
BEGIN:VEVENT
DTSTART;TZID=Europe/Vienna:20230318T140000
DTEND;TZID=Europe/Vienna:20230318T160000
DTSTAMP:20260421T171732
CREATED:20230214T184024Z
LAST-MODIFIED:20230214T184024Z
UID:18177-1679148000-1679155200@www.skn-frauen.at
SUMMARY:ÖFB Future League 2022/23: spusu SKN St. Pölten Frauen II - SKV Altenmarkt 1b
DESCRIPTION:Spielbeginn: 14.00 Uhr
URL:https://www.skn-frauen.at/event/oefb-future-league-2022-23-spusu-skn-st-poelten-frauen-ii-skv-altenmarkt-1b/
LOCATION:SPORTZENTRUM Niederösterreich\, Dr. Adolf Schärf-Straße 25\, St. Pölten\, Niederösterreich\, 3100\, Österreich
CATEGORIES:Meisterschaftsspiel
END:VEVENT
END:VCALENDAR