BEGIN:VCALENDAR
VERSION:2.0
PRODID:-//SKN Frauen - ECPv5.16.4//NONSGML v1.0//EN
CALSCALE:GREGORIAN
METHOD:PUBLISH
X-WR-CALNAME:SKN Frauen
X-ORIGINAL-URL:https://www.skn-frauen.at
X-WR-CALDESC:Veranstaltungen für SKN Frauen
BEGIN:VTIMEZONE
TZID:Europe/Vienna
BEGIN:DAYLIGHT
TZOFFSETFROM:+0100
TZOFFSETTO:+0200
TZNAME:CEST
DTSTART:20230326T010000
END:DAYLIGHT
BEGIN:STANDARD
TZOFFSETFROM:+0200
TZOFFSETTO:+0100
TZNAME:CET
DTSTART:20231029T010000
END:STANDARD
END:VTIMEZONE
BEGIN:VEVENT
DTSTART;TZID=Europe/Vienna:20230107T163000
DTEND;TZID=Europe/Vienna:20230107T193000
DTSTAMP:20260421T200139
CREATED:20230106T234145Z
LAST-MODIFIED:20230106T234145Z
UID:18060-1673109000-1673119800@www.skn-frauen.at
SUMMARY:Most Masters Hallenturnier
DESCRIPTION:Die Jungwölfinnen beim Hallenturnier in Kilb! \nTurnierbeginn: 16.30 Uhr
URL:https://www.skn-frauen.at/event/most-masters-hallenturnier/
LOCATION:Sporthalle VS Kilb\, St. Pöltner Str. 11\, Kilb\, 3233\, Österreich
CATEGORIES:Hallenturnier
END:VEVENT
END:VCALENDAR