BEGIN:VCALENDAR
VERSION:2.0
PRODID:-//SKN Frauen - ECPv5.16.4//NONSGML v1.0//EN
CALSCALE:GREGORIAN
METHOD:PUBLISH
X-WR-CALNAME:SKN Frauen
X-ORIGINAL-URL:https://www.skn-frauen.at
X-WR-CALDESC:Veranstaltungen für SKN Frauen
BEGIN:VTIMEZONE
TZID:Europe/Vienna
BEGIN:DAYLIGHT
TZOFFSETFROM:+0100
TZOFFSETTO:+0200
TZNAME:CEST
DTSTART:20200329T010000
END:DAYLIGHT
BEGIN:STANDARD
TZOFFSETFROM:+0200
TZOFFSETTO:+0100
TZNAME:CET
DTSTART:20201025T010000
END:STANDARD
END:VTIMEZONE
BEGIN:VEVENT
DTSTART;VALUE=DATE:20200629
DTEND;VALUE=DATE:20200630
DTSTAMP:20260421T134716
CREATED:20181125T174626Z
LAST-MODIFIED:20200212T054544Z
UID:7137-1593388800-1593475199@www.skn-frauen.at
SUMMARY:Geburtstag Michela Croatto
DESCRIPTION:
URL:https://www.skn-frauen.at/event/geburtstag-michela-croatto/
CATEGORIES:Geburtstag
ATTACH;FMTTYPE=image/jpeg:https://www.skn-frauen.at/wp-content/uploads/2018/08/2018Croatto.jpg
END:VEVENT
END:VCALENDAR