BEGIN:VCALENDAR
VERSION:2.0
PRODID:-//SKN Frauen - ECPv5.16.4//NONSGML v1.0//EN
CALSCALE:GREGORIAN
METHOD:PUBLISH
X-WR-CALNAME:SKN Frauen
X-ORIGINAL-URL:https://www.skn-frauen.at
X-WR-CALDESC:Veranstaltungen für SKN Frauen
BEGIN:VTIMEZONE
TZID:Europe/Vienna
BEGIN:DAYLIGHT
TZOFFSETFROM:+0100
TZOFFSETTO:+0200
TZNAME:CEST
DTSTART:20220327T010000
END:DAYLIGHT
BEGIN:STANDARD
TZOFFSETFROM:+0200
TZOFFSETTO:+0100
TZNAME:CET
DTSTART:20221030T010000
END:STANDARD
END:VTIMEZONE
BEGIN:VEVENT
DTSTART;VALUE=DATE:20220909
DTEND;VALUE=DATE:20220910
DTSTAMP:20260424T160114
CREATED:20181125T182705Z
LAST-MODIFIED:20220111T221651Z
UID:7175-1662681600-1662767999@www.skn-frauen.at
SUMMARY:Geburtstag Liese Brancao
DESCRIPTION:
URL:https://www.skn-frauen.at/event/geburtstag-liese-brancao/
CATEGORIES:Geburtstag
ATTACH;FMTTYPE=image/jpeg:https://www.skn-frauen.at/wp-content/uploads/2018/08/brancao.jpg
END:VEVENT
END:VCALENDAR