BEGIN:VCALENDAR
VERSION:2.0
PRODID:-//SKN Frauen - ECPv5.16.4//NONSGML v1.0//EN
CALSCALE:GREGORIAN
METHOD:PUBLISH
X-WR-CALNAME:SKN Frauen
X-ORIGINAL-URL:https://www.skn-frauen.at
X-WR-CALDESC:Veranstaltungen für SKN Frauen
BEGIN:VTIMEZONE
TZID:Europe/Vienna
BEGIN:DAYLIGHT
TZOFFSETFROM:+0100
TZOFFSETTO:+0200
TZNAME:CEST
DTSTART:20230326T010000
END:DAYLIGHT
BEGIN:STANDARD
TZOFFSETFROM:+0200
TZOFFSETTO:+0100
TZNAME:CET
DTSTART:20231029T010000
END:STANDARD
END:VTIMEZONE
BEGIN:VEVENT
DTSTART;TZID=Europe/Vienna:20231001T130000
DTEND;TZID=Europe/Vienna:20231001T170000
DTSTAMP:20260422T154214
CREATED:20230807T183258Z
LAST-MODIFIED:20231002T193648Z
UID:18680-1696165200-1696179600@www.skn-frauen.at
SUMMARY:ADMIRAL Frauen Bundesliga 2023/24: spusu SKN St. Pölten Frauen - FC Bergheim
DESCRIPTION:Spielbeginn: 13.00 Uhr\nFuture League: 15.00 Uhr
URL:https://www.skn-frauen.at/event/admiral-frauen-bundesliga-2023-24-spusu-skn-st-poelten-frauen-fc-bergheim/
LOCATION:NV Arena – Aussenplatz\, Bimbo-Binder-Promenade 9\, St. Pölten\, Niederösterreich\, 3100\, Österreich
CATEGORIES:Meisterschaftsspiel
END:VEVENT
END:VCALENDAR