BEGIN:VCALENDAR
VERSION:2.0
PRODID:-//SKN Frauen - ECPv5.16.4//NONSGML v1.0//EN
CALSCALE:GREGORIAN
METHOD:PUBLISH
X-WR-CALNAME:SKN Frauen
X-ORIGINAL-URL:https://www.skn-frauen.at
X-WR-CALDESC:Veranstaltungen für SKN Frauen
BEGIN:VTIMEZONE
TZID:Europe/Vienna
BEGIN:DAYLIGHT
TZOFFSETFROM:+0100
TZOFFSETTO:+0200
TZNAME:CEST
DTSTART:20230326T010000
END:DAYLIGHT
BEGIN:STANDARD
TZOFFSETFROM:+0200
TZOFFSETTO:+0100
TZNAME:CET
DTSTART:20231029T010000
END:STANDARD
END:VTIMEZONE
BEGIN:VEVENT
DTSTART;TZID=Europe/Vienna:20231006T173000
DTEND;TZID=Europe/Vienna:20231006T221500
DTSTAMP:20260422T171135
CREATED:20230807T183517Z
LAST-MODIFIED:20230807T184803Z
UID:18684-1696613400-1696630500@www.skn-frauen.at
SUMMARY:ADMIRAL Frauen Bundesliga 2023/24: SK Sturm Graz Frauen - spusu SKN St. Pölten Frauen
DESCRIPTION:Spielbeginn Bundesliga: 20.15 Uhr\nSpielbeginn Future League: 17.30 Uhr
URL:https://www.skn-frauen.at/event/admiral-frauen-bundesliga-2023-24-sk-sturm-graz-frauen-spusu-skn-st-poelten-frauen/
LOCATION:Trainingszentrum Messendorf\, Sternäckerweg 116\, Graz\, 8042\, Österreich
CATEGORIES:Meisterschaftsspiel
END:VEVENT
END:VCALENDAR